BEGIN:VCALENDAR
VERSION:2.0
PRODID:-//American Legion Post 754 - New York Athletic Club - ECPv6.15.20//NONSGML v1.0//EN
CALSCALE:GREGORIAN
METHOD:PUBLISH
X-ORIGINAL-URL:https://www.alpost754.org
X-WR-CALDESC:Events for American Legion Post 754 - New York Athletic Club
REFRESH-INTERVAL;VALUE=DURATION:PT1H
X-Robots-Tag:noindex
X-PUBLISHED-TTL:PT1H
BEGIN:VTIMEZONE
TZID:UTC
BEGIN:STANDARD
TZOFFSETFROM:+0000
TZOFFSETTO:+0000
TZNAME:UTC
DTSTART:20240101T000000
END:STANDARD
END:VTIMEZONE
BEGIN:VEVENT
DTSTART;TZID=UTC:20250612T180000
DTEND;TZID=UTC:20250612T233000
DTSTAMP:20260425T140333
CREATED:20240129T020540Z
LAST-MODIFIED:20250512T021933Z
UID:3037-1749751200-1749771000@www.alpost754.org
SUMMARY:Patio Party - U.S. Army 250th Birthday
DESCRIPTION:Join us for the last party before summer! Special guest speakers!
URL:https://www.alpost754.org/event/patio-party-2/
LOCATION:AL Post 754 — NYAC\, 180 Central Park South\, Manhattan\, NY\, 10019\, United States
END:VEVENT
END:VCALENDAR