BEGIN:VCALENDAR
VERSION:2.0
PRODID:-//American Legion Post 754 - New York Athletic Club - ECPv6.15.20//NONSGML v1.0//EN
CALSCALE:GREGORIAN
METHOD:PUBLISH
X-ORIGINAL-URL:https://www.alpost754.org
X-WR-CALDESC:Events for American Legion Post 754 - New York Athletic Club
REFRESH-INTERVAL;VALUE=DURATION:PT1H
X-Robots-Tag:noindex
X-PUBLISHED-TTL:PT1H
BEGIN:VTIMEZONE
TZID:UTC
BEGIN:STANDARD
TZOFFSETFROM:+0000
TZOFFSETTO:+0000
TZNAME:UTC
DTSTART:20240101T000000
END:STANDARD
END:VTIMEZONE
BEGIN:VEVENT
DTSTART;TZID=UTC:20250918T180000
DTEND;TZID=UTC:20250918T210000
DTSTAMP:20260424T041935
CREATED:20250717T204750Z
LAST-MODIFIED:20250717T204750Z
UID:3094-1758218400-1758229200@www.alpost754.org
SUMMARY:Post Summer Social
DESCRIPTION:Welcome back to Post 754! We hope you all had a wonderful summer\, and we look forward to hosting you for our first social gathering of the fall season.
URL:https://www.alpost754.org/event/post-summer-social/
LOCATION:AL Post 754 — NYAC\, 180 Central Park South\, Manhattan\, NY\, 10019\, United States
END:VEVENT
END:VCALENDAR