BEGIN:VCALENDAR
VERSION:2.0
PRODID:-//American Legion Post 754 - New York Athletic Club - ECPv6.15.20//NONSGML v1.0//EN
CALSCALE:GREGORIAN
METHOD:PUBLISH
X-ORIGINAL-URL:https://www.alpost754.org
X-WR-CALDESC:Events for American Legion Post 754 - New York Athletic Club
REFRESH-INTERVAL;VALUE=DURATION:PT1H
X-Robots-Tag:noindex
X-PUBLISHED-TTL:PT1H
BEGIN:VTIMEZONE
TZID:UTC
BEGIN:STANDARD
TZOFFSETFROM:+0000
TZOFFSETTO:+0000
TZNAME:UTC
DTSTART:20250101T000000
END:STANDARD
END:VTIMEZONE
BEGIN:VEVENT
DTSTART;TZID=UTC:20260507T183000
DTEND;TZID=UTC:20260507T233000
DTSTAMP:20260423T175453
CREATED:20260112T142702Z
LAST-MODIFIED:20260112T142702Z
UID:3126-1778178600-1778196600@www.alpost754.org
SUMMARY:AL Post 754 Casino Night
DESCRIPTION:Details will be provided via email.
URL:https://www.alpost754.org/event/al-post-754-casino-night/
LOCATION:AL Post 754 — NYAC\, 180 Central Park South\, Manhattan\, NY\, 10019\, United States
END:VEVENT
END:VCALENDAR