BEGIN:VCALENDAR
VERSION:2.0
PRODID:-//American Legion Post 754 - New York Athletic Club - ECPv6.15.20//NONSGML v1.0//EN
CALSCALE:GREGORIAN
METHOD:PUBLISH
X-ORIGINAL-URL:https://www.alpost754.org
X-WR-CALDESC:Events for American Legion Post 754 - New York Athletic Club
REFRESH-INTERVAL;VALUE=DURATION:PT1H
X-Robots-Tag:noindex
X-PUBLISHED-TTL:PT1H
BEGIN:VTIMEZONE
TZID:UTC
BEGIN:STANDARD
TZOFFSETFROM:+0000
TZOFFSETTO:+0000
TZNAME:UTC
DTSTART:20250101T000000
END:STANDARD
END:VTIMEZONE
BEGIN:VEVENT
DTSTART;TZID=UTC:20260521T120000
DTEND;TZID=UTC:20260521T150000
DTSTAMP:20260423T193012
CREATED:20260112T142855Z
LAST-MODIFIED:20260112T142855Z
UID:3130-1779364800-1779375600@www.alpost754.org
SUMMARY:Memorial Day Wreath Laying & Luncheon
DESCRIPTION:
URL:https://www.alpost754.org/event/memorial-day-wreath-laying-luncheon/
LOCATION:AL Post 754 — NYAC\, 180 Central Park South\, Manhattan\, NY\, 10019\, United States
END:VEVENT
BEGIN:VEVENT
DTSTART;TZID=UTC:20260521T183000
DTEND;TZID=UTC:20260521T223000
DTSTAMP:20260423T193012
CREATED:20260112T142942Z
LAST-MODIFIED:20260112T142942Z
UID:3132-1779388200-1779402600@www.alpost754.org
SUMMARY:Thursday Social
DESCRIPTION:
URL:https://www.alpost754.org/event/thursday-social-4/
LOCATION:AL Post 754 — NYAC\, 180 Central Park South\, Manhattan\, NY\, 10019\, United States
END:VEVENT
END:VCALENDAR