BEGIN:VCALENDAR
VERSION:2.0
PRODID:-//American Legion Post 754 - New York Athletic Club - ECPv6.15.20//NONSGML v1.0//EN
CALSCALE:GREGORIAN
METHOD:PUBLISH
X-ORIGINAL-URL:https://www.alpost754.org
X-WR-CALDESC:Events for American Legion Post 754 - New York Athletic Club
REFRESH-INTERVAL;VALUE=DURATION:PT1H
X-Robots-Tag:noindex
X-PUBLISHED-TTL:PT1H
BEGIN:VTIMEZONE
TZID:UTC
BEGIN:STANDARD
TZOFFSETFROM:+0000
TZOFFSETTO:+0000
TZNAME:UTC
DTSTART:20240101T000000
END:STANDARD
END:VTIMEZONE
BEGIN:VEVENT
DTSTART;TZID=UTC:20251008T180000
DTEND;TZID=UTC:20251008T210000
DTSTAMP:20260424T013201
CREATED:20250912T184926Z
LAST-MODIFIED:20250912T184926Z
UID:3101-1759946400-1759957200@www.alpost754.org
SUMMARY:Military Order of Foreign Wars Annual Social
DESCRIPTION:All Post 754 Legion Members interested in the Military Order of Foreign Wars are welcome to attend.
URL:https://www.alpost754.org/event/military-order-of-foreign-wars-annual-social/
LOCATION:AL Post 754 — NYAC\, 180 Central Park South\, Manhattan\, NY\, 10019\, United States
END:VEVENT
BEGIN:VEVENT
DTSTART;TZID=UTC:20251014T180000
DTEND;TZID=UTC:20251014T210000
DTSTAMP:20260424T013201
CREATED:20250912T185341Z
LAST-MODIFIED:20250912T185341Z
UID:3103-1760464800-1760475600@www.alpost754.org
SUMMARY:General McChrystal Book Event
DESCRIPTION:AL Post 754 is happy to sponsor a special event at the NYAC with General McChrystal. The event includes dinner\, drinks\, a fireside chat\, and a signed copy of his book. Details for signup will be sent via email distro! This event will take place within the NYAC spaces and not within the post.
URL:https://www.alpost754.org/event/general-mcchrystal-book-event/
LOCATION:AL Post 754 — NYAC\, 180 Central Park South\, Manhattan\, NY\, 10019\, United States
END:VEVENT
BEGIN:VEVENT
DTSTART;TZID=UTC:20251016T180000
DTEND;TZID=UTC:20251016T230000
DTSTAMP:20260424T013201
CREATED:20250912T185517Z
LAST-MODIFIED:20250912T185517Z
UID:3105-1760637600-1760655600@www.alpost754.org
SUMMARY:Monthly Social Gathering
DESCRIPTION:Please bring your friends to our monthly social gathering!
URL:https://www.alpost754.org/event/monthly-social-gathering/
LOCATION:AL Post 754 — NYAC\, 180 Central Park South\, Manhattan\, NY\, 10019\, United States
END:VEVENT
END:VCALENDAR